BEGIN:VCALENDAR
VERSION:2.0
PRODID:-//Ergo Theatre Presents - ECPv6.15.17//NONSGML v1.0//EN
CALSCALE:GREGORIAN
METHOD:PUBLISH
X-ORIGINAL-URL:https://ergotheatre.com
X-WR-CALDESC:Events for Ergo Theatre Presents
REFRESH-INTERVAL;VALUE=DURATION:PT1H
X-Robots-Tag:noindex
X-PUBLISHED-TTL:PT1H
BEGIN:VTIMEZONE
TZID:America/Kentucky/Louisville
BEGIN:DAYLIGHT
TZOFFSETFROM:-0500
TZOFFSETTO:-0400
TZNAME:EDT
DTSTART:20250309T070000
END:DAYLIGHT
BEGIN:STANDARD
TZOFFSETFROM:-0400
TZOFFSETTO:-0500
TZNAME:EST
DTSTART:20251102T060000
END:STANDARD
BEGIN:DAYLIGHT
TZOFFSETFROM:-0500
TZOFFSETTO:-0400
TZNAME:EDT
DTSTART:20260308T070000
END:DAYLIGHT
BEGIN:STANDARD
TZOFFSETFROM:-0400
TZOFFSETTO:-0500
TZNAME:EST
DTSTART:20261101T060000
END:STANDARD
BEGIN:DAYLIGHT
TZOFFSETFROM:-0500
TZOFFSETTO:-0400
TZNAME:EDT
DTSTART:20270314T070000
END:DAYLIGHT
BEGIN:STANDARD
TZOFFSETFROM:-0400
TZOFFSETTO:-0500
TZNAME:EST
DTSTART:20271107T060000
END:STANDARD
END:VTIMEZONE
BEGIN:VEVENT
DTSTART;TZID=America/Kentucky/Louisville:20260307T190000
DTEND;TZID=America/Kentucky/Louisville:20260307T200000
DTSTAMP:20260419T133836
CREATED:20260304T173128Z
LAST-MODIFIED:20260304T173128Z
UID:187-1772910000-1772913600@ergotheatre.com
SUMMARY:Me And My Muse: The Big Pitch
DESCRIPTION:Ergo Theatre presents the second episode in the Me And My Muse Series.
URL:https://ergotheatre.com/event/me-and-my-muse-the-big-pitch-3/
LOCATION:Walden Theatre\, 1123 Payne St\, Louisville\, KY\, 40204\, United States
END:VEVENT
END:VCALENDAR